BEGIN:VCALENDAR
VERSION:2.0
PRODID:SchoolNow
CALSCALE:GREGORIAN
BEGIN:VEVENT
UID:9ffb019a-89c0-11f0-94b1-0a58a9feac02
DTSTAMP:20251229T205532Z
SUMMARY:(Cancelled) CDD Board Meeting - January 2026
LOCATION:Cagan Crossings County Library - 16729 Cagan Oaks\, Clermont\, Flo
 rida 34714.
URL;VALUE=URI:https://www.glsbcdd.org/calendar/8580777/cdd-board-meeting-ja
 nuary-2026
DTSTART:20260121T160000Z
DTEND:20260121T190000Z
END:VEVENT
END:VCALENDAR
