BEGIN:VCALENDAR
VERSION:2.0
PRODID:SchoolNow
CALSCALE:GREGORIAN
BEGIN:VEVENT
UID:b7ee7d86-89c0-11f0-a66c-029f65b6582b
DTSTAMP:20260217T132756Z
SUMMARY:CDD Board Meeting - February 2026
LOCATION:Cagan Crossings County Library - 16729 Cagan Oaks\, Clermont\, Flo
 rida 34714.
URL;VALUE=URI:https://www.glsbcdd.org/calendar/8580778/cdd-board-meeting-fe
 bruary-2026
DTSTART:20260218T160000Z
DTEND:20260218T190000Z
ATTACH;FILENAME=2026-02-18-Greater Lakes Sawgrass Bay CDD - 2nd Audit Commi
 ttee Final Agenda.pdf;FMTTYPE=application/pdf:https://campussuite-storage.
 s3.amazonaws.com/prod/1558928/a05ce758-eaab-11e9-acbc-0aa01e52b234/3069896
 /0a496114-0792-11f1-9817-0a58a9feac02/file/2026-02-18-Greater Lakes Sawgra
 ss Bay CDD - 2nd Audit Committee Final Agenda.pdf
ATTACH;FILENAME=2026-02-18 - Greater Lakes Sawgrass Bay CDD - Final Agenda.
 ...pdf;FMTTYPE=application/pdf:https://campussuite-storage.s3.amazonaws.co
 m/prod/1558928/a05ce758-eaab-11e9-acbc-0aa01e52b234/3071088/66283e12-0c04-
 11f1-a33c-0a58a9feac02/file/2026-02-18 - Greater Lakes Sawgrass Bay CDD - 
 Final Agenda....pdf
END:VEVENT
END:VCALENDAR
