BEGIN:VCALENDAR
VERSION:2.0
PRODID:SchoolNow
CALSCALE:GREGORIAN
BEGIN:VEVENT
UID:d2f55bf4-89c0-11f0-b61c-0a58a9feac02
DTSTAMP:20260311T211415Z
SUMMARY:CDD Board Meeting - March 2026
LOCATION:Cagan Crossings County Library - 16729 Cagan Oaks\, Clermont\, Flo
 rida 34714.
URL;VALUE=URI:https://www.glsbcdd.org/calendar/8580779/cdd-board-meeting-ma
 rch-2026
DTSTART:20260318T150000Z
DTEND:20260318T180000Z
ATTACH;FILENAME=2026-03-18 - Greater Lakes Sawgrass Bay CDD - Final Agenda.
 ...pdf;FMTTYPE=application/pdf:https://campussuite-storage.s3.amazonaws.co
 m/prod/1558928/a05ce758-eaab-11e9-acbc-0aa01e52b234/3079016/37b890c6-1d8f-
 11f1-ac7f-027c42f35a8d/file/2026-03-18 - Greater Lakes Sawgrass Bay CDD - 
 Final Agenda....pdf
END:VEVENT
END:VCALENDAR
