BEGIN:VCALENDAR
VERSION:2.0
PRODID:SchoolNow
CALSCALE:GREGORIAN
BEGIN:VEVENT
UID:eba393b4-89c0-11f0-bbf9-0a58a9feac02
DTSTAMP:20260406T131420Z
SUMMARY:(Cancelled) CDD Board Meeting - April 2026
LOCATION:Cagan Crossings County Library - 16729 Cagan Oaks\, Clermont\, Flo
 rida 34714.
URL;VALUE=URI:https://www.glsbcdd.org/calendar/8580780/cdd-board-meeting-ap
 ril-2026
DTSTART:20260415T150000Z
DTEND:20260415T180000Z
END:VEVENT
END:VCALENDAR
