BEGIN:VCALENDAR
VERSION:2.0
PRODID:SchoolNow
CALSCALE:GREGORIAN
BEGIN:VEVENT
UID:2e6d5b94-89c1-11f0-93df-0a58a9feac02
DTSTAMP:20250904T185844Z
SUMMARY:CDD Board Meeting - May 2026
LOCATION:Cagan Crossings County Library - 16729 Cagan Oaks\, Clermont\, Flo
 rida 34714.
URL;VALUE=URI:https://www.glsbcdd.org/calendar/8580781/cdd-board-meeting-ma
 y-2026
DTSTART:20260520T150000Z
DTEND:20260520T180000Z
END:VEVENT
END:VCALENDAR
