BEGIN:VCALENDAR
VERSION:2.0
PRODID:SchoolNow
CALSCALE:GREGORIAN
BEGIN:VEVENT
UID:4f19e77c-89c1-11f0-b296-0a58a9feac02
DTSTAMP:20250904T185939Z
SUMMARY:CDD Board Meeting - June 2026
LOCATION:Cagan Crossings County Library - 16729 Cagan Oaks\, Clermont\, Flo
 rida 34714.
URL;VALUE=URI:https://www.glsbcdd.org/calendar/8580782/cdd-board-meeting-ju
 ne-2026
DTSTART:20260617T150000Z
DTEND:20260617T180000Z
END:VEVENT
END:VCALENDAR
