BEGIN:VCALENDAR
VERSION:2.0
PRODID:SchoolNow
CALSCALE:GREGORIAN
BEGIN:VEVENT
UID:6dc4e820-89c1-11f0-a30e-0eda9216a9fd
DTSTAMP:20250904T190031Z
SUMMARY:CDD Board Meeting - July 2026
LOCATION:Cagan Crossings County Library - 16729 Cagan Oaks\, Clermont\, Flo
 rida 34714.
URL;VALUE=URI:https://www.glsbcdd.org/calendar/8580784/cdd-board-meeting-ju
 ly-2026
DTSTART:20260715T150000Z
DTEND:20260715T180000Z
END:VEVENT
END:VCALENDAR
