BEGIN:VCALENDAR
VERSION:2.0
PRODID:SchoolNow
CALSCALE:GREGORIAN
BEGIN:VEVENT
UID:8ae40436-89c1-11f0-bf40-0affee066179
DTSTAMP:20250904T190120Z
SUMMARY:CDD Board Meeting - August 2026
LOCATION:Cagan Crossings County Library - 16729 Cagan Oaks\, Clermont\, Flo
 rida 34714.
URL;VALUE=URI:https://www.glsbcdd.org/calendar/8580785/cdd-board-meeting-au
 gust-2026
DTSTART:20260819T150000Z
DTEND:20260819T180000Z
END:VEVENT
END:VCALENDAR
