BEGIN:VCALENDAR
VERSION:2.0
PRODID:SchoolNow
CALSCALE:GREGORIAN
BEGIN:VEVENT
UID:b1c6e384-89c1-11f0-a959-0affee066179
DTSTAMP:20250904T190225Z
SUMMARY:CDD Board Meeting - September 2026
LOCATION:Cagan Crossings County Library - 16729 Cagan Oaks\, Clermont\, Flo
 rida 34714.
URL;VALUE=URI:https://www.glsbcdd.org/calendar/8580786/cdd-board-meeting-se
 ptember-2026
DTSTART:20260916T150000Z
DTEND:20260916T180000Z
END:VEVENT
END:VCALENDAR
